BEGIN:VCALENDAR
VERSION:2.0
PRODID:-//Spandana Classical Arts - ECPv6.0.11//NONSGML v1.0//EN
CALSCALE:GREGORIAN
METHOD:PUBLISH
X-ORIGINAL-URL:https://manaswini.com
X-WR-CALDESC:Events for Spandana Classical Arts
REFRESH-INTERVAL;VALUE=DURATION:PT1H
X-Robots-Tag:noindex
X-PUBLISHED-TTL:PT1H
BEGIN:VTIMEZONE
TZID:UTC
BEGIN:STANDARD
TZOFFSETFROM:+0000
TZOFFSETTO:+0000
TZNAME:UTC
DTSTART:20240101T000000
END:STANDARD
END:VTIMEZONE
BEGIN:VEVENT
DTSTART;TZID=UTC:20240727T103000
DTEND;TZID=UTC:20240727T123000
DTSTAMP:20260423T225239
CREATED:20240710T211246Z
LAST-MODIFIED:20240710T213539Z
UID:1188-1722076200-1722083400@manaswini.com
SUMMARY:Discover the Joy of Talam/Rhythm in 2 days - Introduction to Indian Classical Talam(Rhythm) Workshop
DESCRIPTION:“Don’t Miss Out! Last Chance to Register for Our Exclusive Talam Workshop!”\n\nAbout the Talam Workshop: Register here \n\n \n\nDon’t miss out! last chance to register – Register here \n\n\n\n\n\n\n\n\n\n\n\n\n\n\n\nIntroduction to Talam: Unlocking the Rhythmic Essence of Indian Classical Music \nIn the vibrant tapestry of Indian classical music\, Talam occupies a central place—a rhythmic framework that not only supports but also enriches the melodic and harmonic expressions. In this comprehensive workshop\, we delve deep into the intricacies of Talam\, offering participants a nuanced understanding and practical experience of this fundamental element. \nUnderstanding Talam: The Heartbeat of Music \nTalam\, simply put\, refers to the rhythmic cycle or meter in Indian classical music. It is characterized by a structured pattern of beats and subdivisions\, forming the backbone upon which compositions are built and performances unfold. While Talam may seem like a sequence of numbers and claps\, its essence lies in its ability to evoke emotion\, elevate improvisation\, and synchronize performers in perfect harmony. \nExploring Different Talam: Varieties and Significance \nIndian classical music boasts a rich tapestry of Talas\, each with its unique structure\, tempo\, and emotional connotations. From the meditative tintal to the lively teental\, each Tala carries its own cultural and aesthetic significance. Throughout the workshop\, participants will explore these varied Talas through theoretical insights and hands-on practice\, gaining a deeper appreciation for their role in shaping musical narratives. \nPractical Hands-on Experience with Talam: Learning Through Application \nA hallmark of our workshop is its emphasis on experiential learning. Participants will engage in guided sessions where they not only learn to identify and count Talas but also practice clapping and vocalizing them. This hands-on approach fosters a direct connection with the rhythmic patterns\, enabling a more intuitive grasp of Talam’s intricate dynamics. \nCultural Context and Evolution of Talam:\n \nBeyond its technical aspects\, Talam carries profound cultural significance\, reflecting the ethos of different regions and epochs within India. Participants will journey through the historical evolution of Talam\, exploring its adaptations\, influences\, and enduring relevance in contemporary music. This contextual understanding enriches their musical sensibilities and deepens their appreciation for the art form. \nArtistic Interpretation and Performance Dynamics of Talam\n \nAt its core\, Talam empowers musicians to weave intricate melodies and engage in spontaneous improvisation. The workshop will delve into how Talam influences musical compositions\, enhances rhythmic creativity\, and fosters collaborative performance. Participants will gain practical insights into integrating Talam into their musical practice\, whether as vocalists\, instrumentalists\, or enthusiasts seeking to enrich their musical repertoire. \nWorkshop Logistics and Registration \nThe workshop will be conducted over two days\, each session lasting two hours\, ensuring a comprehensive exploration of Talam’s nuances. Sessions will be led by experienced instructor Manaswini Sridhar. \nJoin Us on this Musical Odyssey \nWhether you’re a novice eager to understand the rhythmic foundations of Indian classical music or a seasoned musician looking to refine your skills\, this workshop offers a transformative experience. Come\, embark on a journey of discovery and mastery as we unravel the intricacies of Talam together. \nRegistration Details \n\nDate: July 27 & 28\nTime: 10:30 AM to 12:30 PM\nVenue: Flight Feathers Ballet Studio\, 14172 NE Woodinville Duvall Rd\, Woodinville\, WA 98072\n\nRegister here  \nDon’t miss this opportunity to deepen your musical knowledge and skill. Reserve your spot today and immerse yourself in the rhythmic allure of Talam!
URL:https://manaswini.com/event/indian-classical-talam-rhythm-workshop/
LOCATION:Flight Feathers Ballet LLC\, 14172 NE Woodinville Duvall Rd\, Woodinville\, WA 98072\, Woodinville\, WA\, 98072\, United States
END:VEVENT
END:VCALENDAR